BEGIN:VCALENDAR
VERSION:2.0
PRODID:-//gcpc.org//NONSGML kigkonsult.se iCalcreator 2.30.10//
CALSCALE:GREGORIAN
METHOD:PUBLISH
UID:eff383b4-e95e-40db-9de3-21a738f885e1
X-WR-CALDESC:As the Page Turns is a group of women with a passion for readi
 ng a variety of books that meets the 1st Wednesday of the month from 1:30-
 3:00pm in Room 5.  Contact Kathy Williams for more information.
X-WR-RELCALID:513b6d22b0b580709e63ce7dd617b60e
X-WR-TIMEZONE:America/Chicago
BEGIN:VTIMEZONE
TZID:America/Chicago
BEGIN:STANDARD
TZNAME:CST
DTSTART:20271107T020000
TZOFFSETFROM:-0500
TZOFFSETTO:-0600
RDATE:20281105T020000
RDATE:20291104T020000
END:STANDARD
BEGIN:DAYLIGHT
TZNAME:CDT
DTSTART:20280312T020000
TZOFFSETFROM:-0600
TZOFFSETTO:-0500
RDATE:20290311T020000
RDATE:20300310T020000
END:DAYLIGHT
END:VTIMEZONE
BEGIN:VEVENT
UID:8b6d2bff-a5fa-4512-b56d-25610c2c3cbd
DTSTAMP:20260424T123728Z
DESCRIPTION:As the Page Turns is a group of women with a passion for readin
 g a variety of books that meets the 1st Wednesday of the month from 1:30-3
 :00pm in Room 5.  Contact Kathy Williams for more information.
DTSTART;TZID=America/Chicago:20281004T133000
DTEND;TZID=America/Chicago:20281004T150000
LOCATION:Room 3
SUMMARY:As the Page Turns
END:VEVENT
END:VCALENDAR
