BEGIN:VCALENDAR
VERSION:2.0
PRODID:-//gcpc.org//NONSGML kigkonsult.se iCalcreator 2.30.10//
CALSCALE:GREGORIAN
METHOD:PUBLISH
UID:be4a8676-67f3-4b27-89c4-d866b8cccb43
X-WR-CALDESC:
X-WR-RELCALID:f34f4b357329a3815c26085fc84397de
X-WR-TIMEZONE:America/Chicago
BEGIN:VTIMEZONE
TZID:America/Chicago
BEGIN:STANDARD
TZNAME:CST
DTSTART:20251102T020000
TZOFFSETFROM:-0500
TZOFFSETTO:-0600
RDATE:20261101T020000
END:STANDARD
BEGIN:DAYLIGHT
TZNAME:CDT
DTSTART:20260308T020000
TZOFFSETFROM:-0600
TZOFFSETTO:-0500
RDATE:20270314T020000
END:DAYLIGHT
END:VTIMEZONE
BEGIN:VEVENT
UID:2a83c83b-935b-47a3-a151-826a714db784
DTSTAMP:20260423T112059Z
DESCRIPTION:
DTSTART;TZID=America/Chicago:20260329T104500
DTEND;TZID=America/Chicago:20260329T114500
LOCATION:
SUMMARY:Christian Education
END:VEVENT
END:VCALENDAR
