BEGIN:VCALENDAR
VERSION:2.0
PRODID:-//gcpc.org//NONSGML kigkonsult.se iCalcreator 2.30.10//
CALSCALE:GREGORIAN
METHOD:PUBLISH
UID:2edc63d6-8474-44fe-8eb8-227e544e0b2a
X-WR-CALDESC:Join us for our Good Friday/Tenebrae Service\, April 3\, 7:30p
 m. Experience the power of the Tenebrae Service\, a time of reflection on 
 Christ’s crucifixion through scripture\, music\, and the gradual extinguis
 hing of light.
X-WR-RELCALID:87626f9d4c029203987df9a8fe6b8917
X-WR-TIMEZONE:America/Chicago
BEGIN:VTIMEZONE
TZID:America/Chicago
BEGIN:STANDARD
TZNAME:CST
DTSTART:20251102T020000
TZOFFSETFROM:-0500
TZOFFSETTO:-0600
RDATE:20261101T020000
END:STANDARD
BEGIN:DAYLIGHT
TZNAME:CDT
DTSTART:20260308T020000
TZOFFSETFROM:-0600
TZOFFSETTO:-0500
RDATE:20270314T020000
END:DAYLIGHT
END:VTIMEZONE
BEGIN:VEVENT
UID:03f4d3e3-a174-4afd-a892-6a0d5b5108ac
DTSTAMP:20260423T191926Z
DESCRIPTION:Join us for our Good Friday/Tenebrae Service\, April 3\, 7:30pm
 . Experience the power of the Tenebrae Service\, a time of reflection on C
 hrist’s crucifixion through scripture\, music\, and the gradual extinguish
 ing of light.
DTSTART;TZID=America/Chicago:20260403T193000
DTEND;TZID=America/Chicago:20260403T203000
LOCATION:11100 College Blvd.\, Overland Park\, KS 66210 US
SUMMARY:Good Friday Worship
END:VEVENT
END:VCALENDAR
