BEGIN:VCALENDAR
VERSION:2.0
PRODID:-//gcpc.org//NONSGML kigkonsult.se iCalcreator 2.30.10//
CALSCALE:GREGORIAN
METHOD:PUBLISH
UID:7c8727fc-a106-4930-980c-b46076f7b6fb
X-WR-CALDESC:Troop 122\n\nAdditional Contact:  Bill Brown\; brownchat12337@
 gmail.com
X-WR-RELCALID:e1e40b7c9a296e8f4863ae611c274645
X-WR-TIMEZONE:America/Chicago
BEGIN:VTIMEZONE
TZID:America/Chicago
BEGIN:STANDARD
TZNAME:CST
DTSTART:20251102T020000
TZOFFSETFROM:-0500
TZOFFSETTO:-0600
RDATE:20261101T020000
RDATE:20271107T020000
END:STANDARD
BEGIN:DAYLIGHT
TZNAME:CDT
DTSTART:20260308T020000
TZOFFSETFROM:-0600
TZOFFSETTO:-0500
RDATE:20270314T020000
END:DAYLIGHT
END:VTIMEZONE
BEGIN:VEVENT
UID:de4c2713-98be-4a50-8610-f2cec8dc247e
DTSTAMP:20260423T083223Z
DESCRIPTION:Troop 122\n\nAdditional Contact:  Bill Brown\; brownchat12337@g
 mail.com
DTSTART;TZID=America/Chicago:20260803T183000
DTEND;TZID=America/Chicago:20260803T210000
LOCATION:OUTDOORS
SUMMARY:Scouts
END:VEVENT
END:VCALENDAR
