BEGIN:VCALENDAR
VERSION:2.0
PRODID:-//gcpc.org//NONSGML kigkonsult.se iCalcreator 2.30.10//
CALSCALE:GREGORIAN
METHOD:PUBLISH
UID:b846a627-c1b4-4d92-b12b-6d0776e8f1f0
X-WR-CALDESC:
X-WR-RELCALID:95780ac8d7b5c58c14a1e54c664646b7
X-WR-TIMEZONE:America/Chicago
BEGIN:VTIMEZONE
TZID:America/Chicago
BEGIN:STANDARD
TZNAME:CST
DTSTART:20251102T020000
TZOFFSETFROM:-0500
TZOFFSETTO:-0600
RDATE:20261101T020000
RDATE:20271107T020000
END:STANDARD
BEGIN:DAYLIGHT
TZNAME:CDT
DTSTART:20260308T020000
TZOFFSETFROM:-0600
TZOFFSETTO:-0500
RDATE:20270314T020000
END:DAYLIGHT
END:VTIMEZONE
BEGIN:VEVENT
UID:b4219562-dd89-4713-8d4b-7db2b06835ec
DTSTAMP:20260420T052243Z
DESCRIPTION:
DTSTART;TZID=America/Chicago:20260809T104500
DTEND;TZID=America/Chicago:20260809T114500
LOCATION:
SUMMARY:Christian Education
END:VEVENT
END:VCALENDAR
