BEGIN:VCALENDAR
VERSION:2.0
PRODID:-//gcpc.org//NONSGML kigkonsult.se iCalcreator 2.30.10//
CALSCALE:GREGORIAN
METHOD:PUBLISH
UID:0d9f90b4-2c59-42f8-acfe-1c3f2f4593e3
X-WR-CALDESC:
X-WR-RELCALID:6ff7e78fc996d6a81b159e94f011cbb4
X-WR-TIMEZONE:America/Chicago
BEGIN:VTIMEZONE
TZID:America/Chicago
BEGIN:STANDARD
TZNAME:CST
DTSTART:20251102T020000
TZOFFSETFROM:-0500
TZOFFSETTO:-0600
RDATE:20261101T020000
RDATE:20271107T020000
END:STANDARD
BEGIN:DAYLIGHT
TZNAME:CDT
DTSTART:20260308T020000
TZOFFSETFROM:-0600
TZOFFSETTO:-0500
RDATE:20270314T020000
END:DAYLIGHT
END:VTIMEZONE
BEGIN:VEVENT
UID:2072ee3b-d7ba-451d-bbb2-e9ea481877ce
DTSTAMP:20260420T020153Z
DESCRIPTION:
DTSTART;TZID=America/Chicago:20260811T190000
DTEND;TZID=America/Chicago:20260811T203000
LOCATION:ONLINE
SUMMARY:Youth Team - ONLINE
END:VEVENT
END:VCALENDAR
