BEGIN:VCALENDAR
VERSION:2.0
PRODID:-//gcpc.org//NONSGML kigkonsult.se iCalcreator 2.30.10//
CALSCALE:GREGORIAN
METHOD:PUBLISH
UID:0dcff84a-df75-4206-af83-bf587ecf844e
X-WR-CALDESC:
X-WR-RELCALID:8506b056778173147f5d88b5c58c9ee8
X-WR-TIMEZONE:America/Chicago
BEGIN:VTIMEZONE
TZID:America/Chicago
BEGIN:STANDARD
TZNAME:CST
DTSTART:20251102T020000
TZOFFSETFROM:-0500
TZOFFSETTO:-0600
RDATE:20261101T020000
RDATE:20271107T020000
END:STANDARD
BEGIN:DAYLIGHT
TZNAME:CDT
DTSTART:20260308T020000
TZOFFSETFROM:-0600
TZOFFSETTO:-0500
RDATE:20270314T020000
END:DAYLIGHT
END:VTIMEZONE
BEGIN:VEVENT
UID:6d2ac97f-6460-4992-a957-8f7c24696779
DTSTAMP:20260419T130032Z
DESCRIPTION:
DTSTART;TZID=America/Chicago:20260816T104500
DTEND;TZID=America/Chicago:20260816T114500
LOCATION:
SUMMARY:Christian Education
END:VEVENT
END:VCALENDAR
