BEGIN:VCALENDAR
VERSION:2.0
PRODID:-//gcpc.org//NONSGML kigkonsult.se iCalcreator 2.30.10//
CALSCALE:GREGORIAN
METHOD:PUBLISH
UID:751cea39-3dcd-484e-810a-17c0e5ba7e60
X-WR-CALDESC:Please contact Tom\, 913-530-0981\, for more information about
  the College Nooners.
X-WR-RELCALID:9e4a741259b491f72507e6441ad52d13
X-WR-TIMEZONE:America/Chicago
BEGIN:VTIMEZONE
TZID:America/Chicago
BEGIN:STANDARD
TZNAME:CST
DTSTART:20251102T020000
TZOFFSETFROM:-0500
TZOFFSETTO:-0600
RDATE:20261101T020000
RDATE:20271107T020000
END:STANDARD
BEGIN:DAYLIGHT
TZNAME:CDT
DTSTART:20260308T020000
TZOFFSETFROM:-0600
TZOFFSETTO:-0500
RDATE:20270314T020000
END:DAYLIGHT
END:VTIMEZONE
BEGIN:VEVENT
UID:9be993ed-f6e7-4b03-907c-9d734a128578
DTSTAMP:20260419T140433Z
DESCRIPTION:Please contact Tom\, 913-530-0981\, for more information about 
 the College Nooners.
DTSTART;TZID=America/Chicago:20260823T133000
DTEND;TZID=America/Chicago:20260823T143000
LOCATION:In-Person
SUMMARY:College Nooners AA
END:VEVENT
END:VCALENDAR
