BEGIN:VCALENDAR
VERSION:2.0
PRODID:-//gcpc.org//NONSGML kigkonsult.se iCalcreator 2.30.10//
CALSCALE:GREGORIAN
METHOD:PUBLISH
UID:826d139d-0066-4b33-bd0a-7cd1f0e34306
X-WR-CALDESC:Message Cheryl to see where group is meeting
X-WR-RELCALID:10b72e0b7f3f45245cd1f1c84980d381
X-WR-TIMEZONE:America/Chicago
BEGIN:VTIMEZONE
TZID:America/Chicago
BEGIN:STANDARD
TZNAME:CST
DTSTART:20251102T020000
TZOFFSETFROM:-0500
TZOFFSETTO:-0600
RDATE:20261101T020000
RDATE:20271107T020000
END:STANDARD
BEGIN:DAYLIGHT
TZNAME:CDT
DTSTART:20260308T020000
TZOFFSETFROM:-0600
TZOFFSETTO:-0500
RDATE:20270314T020000
END:DAYLIGHT
END:VTIMEZONE
BEGIN:VEVENT
UID:3be7d074-5623-461f-b421-2f156cf3c27f
DTSTAMP:20260419T171659Z
DESCRIPTION:Message Cheryl to see where group is meeting
DTSTART;TZID=America/Chicago:20260825T190000
DTEND;TZID=America/Chicago:20260825T203000
LOCATION:Room 5 or in members homes
SUMMARY:Crafters (Evening)
END:VEVENT
END:VCALENDAR
