BEGIN:VCALENDAR
VERSION:2.0
PRODID:-//gcpc.org//NONSGML kigkonsult.se iCalcreator 2.30.10//
CALSCALE:GREGORIAN
METHOD:PUBLISH
UID:829cad4e-f708-46b7-9c71-3bd790f56f7a
X-WR-CALDESC:Communion is celebrated on the first Sunday of every month at 
 both worship services. The 8:50 service is by intinction\, and at the 11:0
 5\, the elements are passed.
X-WR-RELCALID:0400a449e79c036b42aa99d30278aed8
X-WR-TIMEZONE:America/Chicago
BEGIN:VTIMEZONE
TZID:America/Chicago
BEGIN:STANDARD
TZNAME:CST
DTSTART:20251102T020000
TZOFFSETFROM:-0500
TZOFFSETTO:-0600
RDATE:20261101T020000
RDATE:20271107T020000
END:STANDARD
BEGIN:DAYLIGHT
TZNAME:CDT
DTSTART:20260308T020000
TZOFFSETFROM:-0600
TZOFFSETTO:-0500
RDATE:20270314T020000
END:DAYLIGHT
END:VTIMEZONE
BEGIN:VEVENT
UID:d832cf22-a55a-496e-a25b-e7f2dd67d228
DTSTAMP:20260422T125819Z
DESCRIPTION:Communion is celebrated on the first Sunday of every month at b
 oth worship services. The 8:50 service is by intinction\, and at the 11:05
 \, the elements are passed.
DTSTART;TZID=America/Chicago:20260906T000000
DTEND;TZID=America/Chicago:20260906T235900
LOCATION:
SUMMARY:COMMUNION SUNDAY
END:VEVENT
END:VCALENDAR
