BEGIN:VCALENDAR
VERSION:2.0
PRODID:-//gcpc.org//NONSGML kigkonsult.se iCalcreator 2.30.10//
CALSCALE:GREGORIAN
METHOD:PUBLISH
UID:fe6b7c60-664f-482e-8ef6-00d7c5be39c9
X-WR-CALDESC:
X-WR-RELCALID:9f63a986d5f53744e9a7fd8a9e168d9c
X-WR-TIMEZONE:America/Chicago
BEGIN:VTIMEZONE
TZID:America/Chicago
BEGIN:STANDARD
TZNAME:CST
DTSTART:20251102T020000
TZOFFSETFROM:-0500
TZOFFSETTO:-0600
RDATE:20261101T020000
RDATE:20271107T020000
END:STANDARD
BEGIN:DAYLIGHT
TZNAME:CDT
DTSTART:20260308T020000
TZOFFSETFROM:-0600
TZOFFSETTO:-0500
RDATE:20270314T020000
END:DAYLIGHT
END:VTIMEZONE
BEGIN:VEVENT
UID:ef950808-8ba8-4afa-ad67-31f1e545d4a4
DTSTAMP:20260422T125632Z
DESCRIPTION:
DTSTART;TZID=America/Chicago:20260906T104500
DTEND;TZID=America/Chicago:20260906T114500
LOCATION:
SUMMARY:Christian Education
END:VEVENT
END:VCALENDAR
