BEGIN:VCALENDAR
VERSION:2.0
PRODID:-//gcpc.org//NONSGML kigkonsult.se iCalcreator 2.30.10//
CALSCALE:GREGORIAN
METHOD:PUBLISH
UID:5ee1a7f2-a67e-4d3d-98d6-217341e63c4a
X-WR-CALDESC:
X-WR-RELCALID:6446621f496666aea2392df11a94888d
X-WR-TIMEZONE:America/Chicago
BEGIN:VTIMEZONE
TZID:America/Chicago
BEGIN:STANDARD
TZNAME:CST
DTSTART:20251102T020000
TZOFFSETFROM:-0500
TZOFFSETTO:-0600
RDATE:20261101T020000
RDATE:20271107T020000
END:STANDARD
BEGIN:DAYLIGHT
TZNAME:CDT
DTSTART:20260308T020000
TZOFFSETFROM:-0600
TZOFFSETTO:-0500
RDATE:20270314T020000
RDATE:20280312T020000
END:DAYLIGHT
END:VTIMEZONE
BEGIN:VEVENT
UID:041fcee7-d86f-4a5b-b142-0dd6fad56808
DTSTAMP:20260422T203300Z
DESCRIPTION:
DTSTART;TZID=America/Chicago:20260914T173000
DTEND;TZID=America/Chicago:20260914T183000
LOCATION:ONLINE
SUMMARY:Operations Committee - ONLINE
END:VEVENT
END:VCALENDAR
