BEGIN:VCALENDAR
VERSION:2.0
PRODID:-//gcpc.org//NONSGML kigkonsult.se iCalcreator 2.30.10//
CALSCALE:GREGORIAN
METHOD:PUBLISH
UID:9173cd97-e60e-44d9-b31b-3b14c7aa97a7
X-WR-CALDESC:Meets in Room 21. Contact Pat Collins\, p5c_70@yahoo.com\, for
  more information.
X-WR-RELCALID:cd883a467c780177b65713e7a192d7e2
X-WR-TIMEZONE:America/Chicago
BEGIN:VTIMEZONE
TZID:America/Chicago
BEGIN:STANDARD
TZNAME:CST
DTSTART:20251102T020000
TZOFFSETFROM:-0500
TZOFFSETTO:-0600
RDATE:20261101T020000
RDATE:20271107T020000
END:STANDARD
BEGIN:DAYLIGHT
TZNAME:CDT
DTSTART:20260308T020000
TZOFFSETFROM:-0600
TZOFFSETTO:-0500
RDATE:20270314T020000
RDATE:20280312T020000
END:DAYLIGHT
END:VTIMEZONE
BEGIN:VEVENT
UID:d8f979fc-93ec-4aed-adc2-a15e262b04bb
DTSTAMP:20260422T185249Z
DESCRIPTION:Meets in Room 21. Contact Pat Collins\, p5c_70@yahoo.com\, for 
 more information.
DTSTART;TZID=America/Chicago:20260915T130000
DTEND;TZID=America/Chicago:20260915T143000
LOCATION:Room 21
SUMMARY:Crafters (Daytime)
END:VEVENT
END:VCALENDAR
