BEGIN:VCALENDAR
VERSION:2.0
PRODID:-//gcpc.org//NONSGML kigkonsult.se iCalcreator 2.30.10//
CALSCALE:GREGORIAN
METHOD:PUBLISH
UID:661553f0-2a74-4f85-bf5e-1fffcfdb6dcb
X-WR-CALDESC:
X-WR-RELCALID:1dc06dd0b8cd64fc8cc3d2a44228c8e7
X-WR-TIMEZONE:America/Chicago
BEGIN:VTIMEZONE
TZID:America/Chicago
BEGIN:STANDARD
TZNAME:CST
DTSTART:20251102T020000
TZOFFSETFROM:-0500
TZOFFSETTO:-0600
RDATE:20261101T020000
RDATE:20271107T020000
END:STANDARD
BEGIN:DAYLIGHT
TZNAME:CDT
DTSTART:20260308T020000
TZOFFSETFROM:-0600
TZOFFSETTO:-0500
RDATE:20270314T020000
RDATE:20280312T020000
END:DAYLIGHT
END:VTIMEZONE
BEGIN:VEVENT
UID:ace09e9f-ac1d-4657-984e-ba020f0d1c6f
DTSTAMP:20260422T111025Z
DESCRIPTION:
DTSTART;TZID=America/Chicago:20260921T190000
DTEND;TZID=America/Chicago:20260921T220000
LOCATION:ONLINE
SUMMARY:Session Meeting
END:VEVENT
END:VCALENDAR
