BEGIN:VCALENDAR
VERSION:2.0
PRODID:-//gcpc.org//NONSGML kigkonsult.se iCalcreator 2.30.10//
CALSCALE:GREGORIAN
METHOD:PUBLISH
UID:0013aa6f-1d45-4154-a2ce-43cc880706fd
X-WR-CALDESC:Submit bulletin articles by email to Patrick Bell in the churc
 h office by Noon each Wednesday.
X-WR-RELCALID:353e6eba10cbbbc7aeba3da1dfcca763
X-WR-TIMEZONE:America/Chicago
BEGIN:VTIMEZONE
TZID:America/Chicago
BEGIN:STANDARD
TZNAME:CST
DTSTART:20251102T020000
TZOFFSETFROM:-0500
TZOFFSETTO:-0600
RDATE:20261101T020000
RDATE:20271107T020000
END:STANDARD
BEGIN:DAYLIGHT
TZNAME:CDT
DTSTART:20260308T020000
TZOFFSETFROM:-0600
TZOFFSETTO:-0500
RDATE:20270314T020000
RDATE:20280312T020000
END:DAYLIGHT
END:VTIMEZONE
BEGIN:VEVENT
UID:61f9ecb7-853e-4f85-b259-8ec16eb3dba3
DTSTAMP:20260422T104208Z
DESCRIPTION:Submit bulletin articles by email to Patrick Bell in the church
  office by Noon each Wednesday.
DTSTART;TZID=America/Chicago:20260923T120000
DTEND;TZID=America/Chicago:20260923T120100
LOCATION:
SUMMARY:Bulletin Deadline
END:VEVENT
END:VCALENDAR
