BEGIN:VCALENDAR
VERSION:2.0
PRODID:-//gcpc.org//NONSGML kigkonsult.se iCalcreator 2.30.10//
CALSCALE:GREGORIAN
METHOD:PUBLISH
UID:8a6d33dc-f2ac-4d02-b330-0ede3823b2d1
X-WR-CALDESC:Join us for a joyful and meaningful morning of fellowship\, st
 orytelling\, and inspiration at our Stewardship Town Hall Brunch on Sunday
 \, September 27\, following worship in Heartland Hall. We’ll enjoy a delic
 ious brunch together and explore how your giving supports the heart of our
  ministry: missions\, staff\, programs\, outreach\, in the place we call h
 ome.\n\n
X-WR-RELCALID:fb0af1283fbd702a74c6fd7be2adb112
X-WR-TIMEZONE:America/Chicago
BEGIN:VTIMEZONE
TZID:America/Chicago
BEGIN:STANDARD
TZNAME:CST
DTSTART:20251102T020000
TZOFFSETFROM:-0500
TZOFFSETTO:-0600
RDATE:20261101T020000
RDATE:20271107T020000
END:STANDARD
BEGIN:DAYLIGHT
TZNAME:CDT
DTSTART:20260308T020000
TZOFFSETFROM:-0600
TZOFFSETTO:-0500
RDATE:20270314T020000
RDATE:20280312T020000
END:DAYLIGHT
END:VTIMEZONE
BEGIN:VEVENT
UID:24f4625f-833b-49a4-bbb1-3ce17bd64ba5
DTSTAMP:20260422T163559Z
DESCRIPTION:Join us for a joyful and meaningful morning of fellowship\, sto
 rytelling\, and inspiration at our Stewardship Town Hall Brunch on Sunday\
 , September 27\, following worship in Heartland Hall. We’ll enjoy a delici
 ous brunch together and explore how your giving supports the heart of our 
 ministry: missions\, staff\, programs\, outreach\, in the place we call ho
 me.\n\n
DTSTART;TZID=America/Chicago:20260927T103000
DTEND;TZID=America/Chicago:20260927T130000
LOCATION:Heartland Hall
SUMMARY:Stewardship Town Hall Brunch
END:VEVENT
END:VCALENDAR
