BEGIN:VCALENDAR
VERSION:2.0
PRODID:-//gcpc.org//NONSGML kigkonsult.se iCalcreator 2.30.10//
CALSCALE:GREGORIAN
METHOD:PUBLISH
UID:93bb7cb6-ce23-4939-a7da-eb81705d35d4
X-WR-CALDESC:Rachel/Ruth Circle is a mixed age group of women that meets 1:
 30-3pm on the fourth Monday of the month during the school year in Room 3 
 at the church.
X-WR-RELCALID:ac6d73cd02edff7707f5f1a571511d99
X-WR-TIMEZONE:America/Chicago
BEGIN:VTIMEZONE
TZID:America/Chicago
BEGIN:STANDARD
TZNAME:CST
DTSTART:20251102T020000
TZOFFSETFROM:-0500
TZOFFSETTO:-0600
RDATE:20261101T020000
RDATE:20271107T020000
END:STANDARD
BEGIN:DAYLIGHT
TZNAME:CDT
DTSTART:20260308T020000
TZOFFSETFROM:-0600
TZOFFSETTO:-0500
RDATE:20270314T020000
RDATE:20280312T020000
END:DAYLIGHT
END:VTIMEZONE
BEGIN:VEVENT
UID:ba180575-f7a1-4eff-8017-f3b20e1f5394
DTSTAMP:20260422T181416Z
DESCRIPTION:Rachel/Ruth Circle is a mixed age group of women that meets 1:3
 0-3pm on the fourth Monday of the month during the school year in Room 3 a
 t the church.
DTSTART;TZID=America/Chicago:20260928T133000
DTEND;TZID=America/Chicago:20260928T150000
LOCATION:Room 3
SUMMARY:Rachel/Ruth Circle
END:VEVENT
END:VCALENDAR
