BEGIN:VCALENDAR
VERSION:2.0
PRODID:-//gcpc.org//NONSGML kigkonsult.se iCalcreator 2.30.10//
CALSCALE:GREGORIAN
METHOD:PUBLISH
UID:10190874-0567-4806-a4a4-1ba270814a3c
X-WR-CALDESC:Submit bulletin articles by email to Patrick Bell in the churc
 h office by Noon each Wednesday.
X-WR-RELCALID:815d9145094c9fc3103dd5d426218de5
X-WR-TIMEZONE:America/Chicago
BEGIN:VTIMEZONE
TZID:America/Chicago
BEGIN:STANDARD
TZNAME:CST
DTSTART:20251102T020000
TZOFFSETFROM:-0500
TZOFFSETTO:-0600
RDATE:20261101T020000
RDATE:20271107T020000
END:STANDARD
BEGIN:DAYLIGHT
TZNAME:CDT
DTSTART:20260308T020000
TZOFFSETFROM:-0600
TZOFFSETTO:-0500
RDATE:20270314T020000
RDATE:20280312T020000
END:DAYLIGHT
END:VTIMEZONE
BEGIN:VEVENT
UID:2d69a224-cadd-4277-b72a-b6fa06b88c28
DTSTAMP:20260424T095524Z
DESCRIPTION:Submit bulletin articles by email to Patrick Bell in the church
  office by Noon each Wednesday.
DTSTART;TZID=America/Chicago:20260930T120000
DTEND;TZID=America/Chicago:20260930T120100
LOCATION:
SUMMARY:Bulletin Deadline
END:VEVENT
END:VCALENDAR
