BEGIN:VCALENDAR
VERSION:2.0
PRODID:-//gcpc.org//NONSGML kigkonsult.se iCalcreator 2.30.10//
CALSCALE:GREGORIAN
METHOD:PUBLISH
UID:e14167b9-843e-4976-9ada-af2cb62c98b3
X-WR-CALDESC:
X-WR-RELCALID:e59ba76a2bcffa6519edb2b3eb406475
X-WR-TIMEZONE:America/Chicago
BEGIN:VTIMEZONE
TZID:America/Chicago
BEGIN:STANDARD
TZNAME:CST
DTSTART:20251102T020000
TZOFFSETFROM:-0500
TZOFFSETTO:-0600
RDATE:20261101T020000
RDATE:20271107T020000
END:STANDARD
BEGIN:DAYLIGHT
TZNAME:CDT
DTSTART:20260308T020000
TZOFFSETFROM:-0600
TZOFFSETTO:-0500
RDATE:20270314T020000
RDATE:20280312T020000
END:DAYLIGHT
END:VTIMEZONE
BEGIN:VEVENT
UID:553faa99-8b7c-4dfa-9b93-5335746223ef
DTSTAMP:20260424T174551Z
DESCRIPTION:
DTSTART;TZID=America/Chicago:20261005T180000
DTEND;TZID=America/Chicago:20261005T200000
LOCATION:ONLINE
SUMMARY:Mission Team - ONLINE
END:VEVENT
END:VCALENDAR
