BEGIN:VCALENDAR
VERSION:2.0
PRODID:-//gcpc.org//NONSGML kigkonsult.se iCalcreator 2.30.10//
CALSCALE:GREGORIAN
METHOD:PUBLISH
UID:aa7a326c-db4f-4bd4-bbc8-882a63ca1c59
X-WR-CALDESC:
X-WR-RELCALID:d58c06a9ceee6add3bec08f9447c40d0
X-WR-TIMEZONE:America/Chicago
BEGIN:VTIMEZONE
TZID:America/Chicago
BEGIN:STANDARD
TZNAME:CST
DTSTART:20251102T020000
TZOFFSETFROM:-0500
TZOFFSETTO:-0600
RDATE:20261101T020000
RDATE:20271107T020000
END:STANDARD
BEGIN:DAYLIGHT
TZNAME:CDT
DTSTART:20260308T020000
TZOFFSETFROM:-0600
TZOFFSETTO:-0500
RDATE:20270314T020000
RDATE:20280312T020000
END:DAYLIGHT
END:VTIMEZONE
BEGIN:VEVENT
UID:5aba838c-523d-4d60-88b3-1e3c0827d565
DTSTAMP:20260424T234655Z
DESCRIPTION:
DTSTART;TZID=America/Chicago:20261018T104500
DTEND;TZID=America/Chicago:20261018T114500
LOCATION:
SUMMARY:Christian Education
END:VEVENT
END:VCALENDAR
