BEGIN:VCALENDAR
VERSION:2.0
PRODID:-//gcpc.org//NONSGML kigkonsult.se iCalcreator 2.30.10//
CALSCALE:GREGORIAN
METHOD:PUBLISH
UID:c37f4b2e-5e22-4c24-aab7-1a1f29638a31
X-WR-CALDESC:Please contact Tom\, 913-530-0981\, for more information about
  the College Nooners.
X-WR-RELCALID:6d9f5c0e9e2cbf7519ac160ff2a943b1
X-WR-TIMEZONE:America/Chicago
BEGIN:VTIMEZONE
TZID:America/Chicago
BEGIN:STANDARD
TZNAME:CST
DTSTART:20251102T020000
TZOFFSETFROM:-0500
TZOFFSETTO:-0600
RDATE:20261101T020000
RDATE:20271107T020000
END:STANDARD
BEGIN:DAYLIGHT
TZNAME:CDT
DTSTART:20260308T020000
TZOFFSETFROM:-0600
TZOFFSETTO:-0500
RDATE:20270314T020000
RDATE:20280312T020000
END:DAYLIGHT
END:VTIMEZONE
BEGIN:VEVENT
UID:c72cb41d-d567-4b6f-8ff0-0b74d42cf614
DTSTAMP:20260424T235118Z
DESCRIPTION:Please contact Tom\, 913-530-0981\, for more information about 
 the College Nooners.
DTSTART;TZID=America/Chicago:20261018T133000
DTEND;TZID=America/Chicago:20261018T143000
LOCATION:In-Person
SUMMARY:College Nooners AA
END:VEVENT
END:VCALENDAR
