BEGIN:VCALENDAR
VERSION:2.0
PRODID:-//gcpc.org//NONSGML kigkonsult.se iCalcreator 2.30.10//
CALSCALE:GREGORIAN
METHOD:PUBLISH
UID:93caa20a-f3b3-48ff-a682-f1d717306c95
X-WR-CALDESC:Uplift is a homeless outreach program. They are an all volunte
 er group founded in 1990\, not funded by federal\, state or local governme
 nt grants or sponsored by other organizations and/or agencies. Uplift  sur
 vives by donations and through a personal commitment to feed and clothe th
 e area’s homeless\, by individuals\, churches and organizations in the Kan
 sas City Metro Area.\n\nGrace Covenant prepares lunches for Uplift on the 
 4th Saturday of every month.
X-WR-RELCALID:c769a5bd69f4536defb097eea61dce7a
X-WR-TIMEZONE:America/Chicago
BEGIN:VTIMEZONE
TZID:America/Chicago
BEGIN:STANDARD
TZNAME:CST
DTSTART:20251102T020000
TZOFFSETFROM:-0500
TZOFFSETTO:-0600
RDATE:20261101T020000
RDATE:20271107T020000
END:STANDARD
BEGIN:DAYLIGHT
TZNAME:CDT
DTSTART:20260308T020000
TZOFFSETFROM:-0600
TZOFFSETTO:-0500
RDATE:20270314T020000
RDATE:20280312T020000
END:DAYLIGHT
END:VTIMEZONE
BEGIN:VEVENT
UID:58dd8679-625a-448a-a868-6e24cf8d6438
DTSTAMP:20260424T130405Z
DESCRIPTION:Uplift is a homeless outreach program. They are an all voluntee
 r group founded in 1990\, not funded by federal\, state or local governmen
 t grants or sponsored by other organizations and/or agencies. Uplift  surv
 ives by donations and through a personal commitment to feed and clothe the
  area’s homeless\, by individuals\, churches and organizations in the Kans
 as City Metro Area.\n\nGrace Covenant prepares lunches for Uplift on the 4
 th Saturday of every month.
DTSTART;TZID=America/Chicago:20261024T103000
DTEND;TZID=America/Chicago:20261024T120000
LOCATION:Kitchen
SUMMARY:Uplift
END:VEVENT
END:VCALENDAR
