BEGIN:VCALENDAR
VERSION:2.0
PRODID:-//gcpc.org//NONSGML kigkonsult.se iCalcreator 2.30.10//
CALSCALE:GREGORIAN
METHOD:PUBLISH
UID:e49d65f6-d7ba-4438-939f-a0215a4a223f
X-WR-CALDESC:
X-WR-RELCALID:5d49443e3fcc573a1c5a989adc77ac1e
X-WR-TIMEZONE:America/Chicago
BEGIN:VTIMEZONE
TZID:America/Chicago
BEGIN:STANDARD
TZNAME:CST
DTSTART:20251102T020000
TZOFFSETFROM:-0500
TZOFFSETTO:-0600
RDATE:20261101T020000
RDATE:20271107T020000
END:STANDARD
BEGIN:DAYLIGHT
TZNAME:CDT
DTSTART:20260308T020000
TZOFFSETFROM:-0600
TZOFFSETTO:-0500
RDATE:20270314T020000
RDATE:20280312T020000
END:DAYLIGHT
END:VTIMEZONE
BEGIN:VEVENT
UID:742e83d3-2f86-4597-8da0-a32b04ae9424
DTSTAMP:20260424T172712Z
DESCRIPTION:
DTSTART;TZID=America/Chicago:20261026T173000
DTEND;TZID=America/Chicago:20261026T184500
LOCATION:ONLINE
SUMMARY:Welcoming Team- ONLINE
END:VEVENT
END:VCALENDAR
