BEGIN:VCALENDAR
VERSION:2.0
PRODID:-//gcpc.org//NONSGML kigkonsult.se iCalcreator 2.30.10//
CALSCALE:GREGORIAN
METHOD:PUBLISH
UID:65ba6bfa-0318-459b-afb1-2c2807a79cda
X-WR-CALDESC:
X-WR-RELCALID:949537429f5e5ba055251de2b75e2112
X-WR-TIMEZONE:America/Chicago
BEGIN:VTIMEZONE
TZID:America/Chicago
BEGIN:STANDARD
TZNAME:CST
DTSTART:20251102T020000
TZOFFSETFROM:-0500
TZOFFSETTO:-0600
RDATE:20261101T020000
RDATE:20271107T020000
END:STANDARD
BEGIN:DAYLIGHT
TZNAME:CDT
DTSTART:20260308T020000
TZOFFSETFROM:-0600
TZOFFSETTO:-0500
RDATE:20270314T020000
RDATE:20280312T020000
END:DAYLIGHT
END:VTIMEZONE
BEGIN:VEVENT
UID:27089238-3b43-40a1-9a24-ce0aae04e81f
DTSTAMP:20260425T012616Z
DESCRIPTION:
DTSTART;TZID=America/Chicago:20261101T104500
DTEND;TZID=America/Chicago:20261101T114500
LOCATION:
SUMMARY:Christian Education
END:VEVENT
END:VCALENDAR
