BEGIN:VCALENDAR
VERSION:2.0
PRODID:-//gcpc.org//NONSGML kigkonsult.se iCalcreator 2.30.10//
CALSCALE:GREGORIAN
METHOD:PUBLISH
UID:5ab6d8de-3e5d-4361-bff2-318758278500
X-WR-CALDESC:Set-up begins at 12:30pm - actual playing time is 1-4pm
X-WR-RELCALID:d952b70e3bc6d7ab338acdb4c0d620ca
X-WR-TIMEZONE:America/Chicago
BEGIN:VTIMEZONE
TZID:America/Chicago
BEGIN:STANDARD
TZNAME:CST
DTSTART:20251102T020000
TZOFFSETFROM:-0500
TZOFFSETTO:-0600
RDATE:20261101T020000
RDATE:20271107T020000
END:STANDARD
BEGIN:DAYLIGHT
TZNAME:CDT
DTSTART:20260308T020000
TZOFFSETFROM:-0600
TZOFFSETTO:-0500
RDATE:20270314T020000
RDATE:20280312T020000
END:DAYLIGHT
END:VTIMEZONE
BEGIN:VEVENT
UID:d141ca06-ed92-413e-b21d-cc99213c834b
DTSTAMP:20260425T030708Z
DESCRIPTION:Set-up begins at 12:30pm - actual playing time is 1-4pm
DTSTART;TZID=America/Chicago:20261102T130000
DTEND;TZID=America/Chicago:20261102T163000
LOCATION:Room 5
SUMMARY:Bridge Group
END:VEVENT
END:VCALENDAR
