BEGIN:VCALENDAR
VERSION:2.0
PRODID:-//gcpc.org//NONSGML kigkonsult.se iCalcreator 2.30.10//
CALSCALE:GREGORIAN
METHOD:PUBLISH
UID:fb9a424d-bf6c-4c36-9c37-ff14966ac148
X-WR-CALDESC:
X-WR-RELCALID:5516f38ab5e76b9f3f12add75e026e19
X-WR-TIMEZONE:America/Chicago
BEGIN:VTIMEZONE
TZID:America/Chicago
BEGIN:STANDARD
TZNAME:CST
DTSTART:20261101T020000
TZOFFSETFROM:-0500
TZOFFSETTO:-0600
RDATE:20271107T020000
END:STANDARD
BEGIN:DAYLIGHT
TZNAME:CDT
DTSTART:20260308T020000
TZOFFSETFROM:-0600
TZOFFSETTO:-0500
RDATE:20270314T020000
RDATE:20280312T020000
END:DAYLIGHT
END:VTIMEZONE
BEGIN:VEVENT
UID:42967463-9732-4d41-9c03-c07f6bae7fd4
DTSTAMP:20260425T123335Z
DESCRIPTION:
DTSTART;TZID=America/Chicago:20261108T104500
DTEND;TZID=America/Chicago:20261108T114500
LOCATION:
SUMMARY:Christian Education
END:VEVENT
END:VCALENDAR
