BEGIN:VCALENDAR
VERSION:2.0
PRODID:-//gcpc.org//NONSGML kigkonsult.se iCalcreator 2.30.10//
CALSCALE:GREGORIAN
METHOD:PUBLISH
UID:63a89fcc-810d-46c5-af8e-26972d9ab1c9
X-WR-CALDESC:For information about the group\, please contact Tom\, 913-530
 -0981.
X-WR-RELCALID:e3b18cbe2552a032a6a88d8f30843ec6
X-WR-TIMEZONE:America/Chicago
BEGIN:VTIMEZONE
TZID:America/Chicago
BEGIN:STANDARD
TZNAME:CST
DTSTART:20261101T020000
TZOFFSETFROM:-0500
TZOFFSETTO:-0600
RDATE:20271107T020000
END:STANDARD
BEGIN:DAYLIGHT
TZNAME:CDT
DTSTART:20260308T020000
TZOFFSETFROM:-0600
TZOFFSETTO:-0500
RDATE:20270314T020000
RDATE:20280312T020000
END:DAYLIGHT
END:VTIMEZONE
BEGIN:VEVENT
UID:8e47f411-619b-48ed-955d-f842a9495941
DTSTAMP:20260426T035956Z
DESCRIPTION:For information about the group\, please contact Tom\, 913-530-
 0981.
DTSTART;TZID=America/Chicago:20261112T120000
DTEND;TZID=America/Chicago:20261112T130000
LOCATION:In-Person
SUMMARY:College Nooners AA
END:VEVENT
END:VCALENDAR
