BEGIN:VCALENDAR
VERSION:2.0
PRODID:-//gcpc.org//NONSGML kigkonsult.se iCalcreator 2.30.10//
CALSCALE:GREGORIAN
METHOD:PUBLISH
UID:02f6e593-55ff-4e4d-a70a-85d7914de2d8
X-WR-CALDESC:
X-WR-RELCALID:87be78f09398603f698a163c8ab88cf2
X-WR-TIMEZONE:America/Chicago
BEGIN:VTIMEZONE
TZID:America/Chicago
BEGIN:STANDARD
TZNAME:CST
DTSTART:20261101T020000
TZOFFSETFROM:-0500
TZOFFSETTO:-0600
RDATE:20271107T020000
END:STANDARD
BEGIN:DAYLIGHT
TZNAME:CDT
DTSTART:20260308T020000
TZOFFSETFROM:-0600
TZOFFSETTO:-0500
RDATE:20270314T020000
RDATE:20280312T020000
END:DAYLIGHT
END:VTIMEZONE
BEGIN:VEVENT
UID:5b1849d8-76c8-4ef8-bf5b-b3e9f5d10c1d
DTSTAMP:20260425T170128Z
DESCRIPTION:
DTSTART;TZID=America/Chicago:20261115T104500
DTEND;TZID=America/Chicago:20261115T114500
LOCATION:
SUMMARY:Christian Education
END:VEVENT
END:VCALENDAR
