BEGIN:VCALENDAR
VERSION:2.0
PRODID:-//gcpc.org//NONSGML kigkonsult.se iCalcreator 2.30.10//
CALSCALE:GREGORIAN
METHOD:PUBLISH
UID:a80a9ada-49c6-436c-9e8c-8ae1a9bd4883
X-WR-CALDESC:Set-up begins at 12:30pm - actual playing time is 1-4pm
X-WR-RELCALID:e49db57b2259c60e9fd1e53068a76265
X-WR-TIMEZONE:America/Chicago
BEGIN:VTIMEZONE
TZID:America/Chicago
BEGIN:STANDARD
TZNAME:CST
DTSTART:20261101T020000
TZOFFSETFROM:-0500
TZOFFSETTO:-0600
RDATE:20271107T020000
END:STANDARD
BEGIN:DAYLIGHT
TZNAME:CDT
DTSTART:20260308T020000
TZOFFSETFROM:-0600
TZOFFSETTO:-0500
RDATE:20270314T020000
RDATE:20280312T020000
END:DAYLIGHT
END:VTIMEZONE
BEGIN:VEVENT
UID:02c76f2b-bea5-4f21-ba7a-d701814e109a
DTSTAMP:20260425T152947Z
DESCRIPTION:Set-up begins at 12:30pm - actual playing time is 1-4pm
DTSTART;TZID=America/Chicago:20261116T130000
DTEND;TZID=America/Chicago:20261116T163000
LOCATION:Room 5
SUMMARY:Bridge Group
END:VEVENT
END:VCALENDAR
