BEGIN:VCALENDAR
VERSION:2.0
PRODID:-//gcpc.org//NONSGML kigkonsult.se iCalcreator 2.30.10//
CALSCALE:GREGORIAN
METHOD:PUBLISH
UID:cbde9634-f201-497e-9bc5-9f7bfd24c15c
X-WR-CALDESC:Troop 122\n\nAdditional Contact:  Bill Brown\; brownchat12337@
 gmail.com
X-WR-RELCALID:fb669e00efa4b7e76d75ed748a17d734
X-WR-TIMEZONE:America/Chicago
BEGIN:VTIMEZONE
TZID:America/Chicago
BEGIN:STANDARD
TZNAME:CST
DTSTART:20261101T020000
TZOFFSETFROM:-0500
TZOFFSETTO:-0600
RDATE:20271107T020000
END:STANDARD
BEGIN:DAYLIGHT
TZNAME:CDT
DTSTART:20260308T020000
TZOFFSETFROM:-0600
TZOFFSETTO:-0500
RDATE:20270314T020000
RDATE:20280312T020000
END:DAYLIGHT
END:VTIMEZONE
BEGIN:VEVENT
UID:641e10c1-e8a2-4ab1-a771-fe28c08aa38f
DTSTAMP:20260425T152946Z
DESCRIPTION:Troop 122\n\nAdditional Contact:  Bill Brown\; brownchat12337@g
 mail.com
DTSTART;TZID=America/Chicago:20261116T183000
DTEND;TZID=America/Chicago:20261116T210000
LOCATION:OUTDOORS
SUMMARY:Scouts
END:VEVENT
END:VCALENDAR
