BEGIN:VCALENDAR
VERSION:2.0
PRODID:-//gcpc.org//NONSGML kigkonsult.se iCalcreator 2.30.10//
CALSCALE:GREGORIAN
METHOD:PUBLISH
UID:451337ee-714f-4050-b3d0-c508667028e4
X-WR-CALDESC:
X-WR-RELCALID:99878f0fb771b89537a25f608966443e
X-WR-TIMEZONE:America/Chicago
BEGIN:VTIMEZONE
TZID:America/Chicago
BEGIN:STANDARD
TZNAME:CST
DTSTART:20261101T020000
TZOFFSETFROM:-0500
TZOFFSETTO:-0600
RDATE:20271107T020000
END:STANDARD
BEGIN:DAYLIGHT
TZNAME:CDT
DTSTART:20260308T020000
TZOFFSETFROM:-0600
TZOFFSETTO:-0500
RDATE:20270314T020000
RDATE:20280312T020000
END:DAYLIGHT
END:VTIMEZONE
BEGIN:VEVENT
UID:2d5bd293-9c23-49a6-9464-d5bb639024df
DTSTAMP:20260425T152951Z
DESCRIPTION:
DTSTART;TZID=America/Chicago:20261116T190000
DTEND;TZID=America/Chicago:20261116T220000
LOCATION:ONLINE
SUMMARY:Session Meeting
END:VEVENT
END:VCALENDAR
