BEGIN:VCALENDAR
VERSION:2.0
PRODID:-//gcpc.org//NONSGML kigkonsult.se iCalcreator 2.30.10//
CALSCALE:GREGORIAN
METHOD:PUBLISH
UID:0f9e85a7-28f7-4fc5-b689-2a7ee7798913
X-WR-CALDESC:Message Cheryl to see where group is meeting
X-WR-RELCALID:ec138e2e35e560277c344eae7d5d8165
X-WR-TIMEZONE:America/Chicago
BEGIN:VTIMEZONE
TZID:America/Chicago
BEGIN:STANDARD
TZNAME:CST
DTSTART:20261101T020000
TZOFFSETFROM:-0500
TZOFFSETTO:-0600
RDATE:20271107T020000
END:STANDARD
BEGIN:DAYLIGHT
TZNAME:CDT
DTSTART:20260308T020000
TZOFFSETFROM:-0600
TZOFFSETTO:-0500
RDATE:20270314T020000
RDATE:20280312T020000
END:DAYLIGHT
END:VTIMEZONE
BEGIN:VEVENT
UID:19ecd30e-0494-435e-b704-cdd797a4f5c5
DTSTAMP:20260425T030823Z
DESCRIPTION:Message Cheryl to see where group is meeting
DTSTART;TZID=America/Chicago:20261124T190000
DTEND;TZID=America/Chicago:20261124T203000
LOCATION:Room 5 or in members homes
SUMMARY:Crafters (Evening)
END:VEVENT
END:VCALENDAR
