BEGIN:VCALENDAR
VERSION:2.0
PRODID:-//gcpc.org//NONSGML kigkonsult.se iCalcreator 2.30.10//
CALSCALE:GREGORIAN
METHOD:PUBLISH
UID:ac2be5b5-e93b-4669-b5be-578b4e8b246c
X-WR-CALDESC:
X-WR-RELCALID:ccede627d8d9e96da92afa6dc8a85d60
X-WR-TIMEZONE:America/Chicago
BEGIN:VTIMEZONE
TZID:America/Chicago
BEGIN:STANDARD
TZNAME:CST
DTSTART:20261101T020000
TZOFFSETFROM:-0500
TZOFFSETTO:-0600
RDATE:20271107T020000
END:STANDARD
BEGIN:DAYLIGHT
TZNAME:CDT
DTSTART:20260308T020000
TZOFFSETFROM:-0600
TZOFFSETTO:-0500
RDATE:20270314T020000
RDATE:20280312T020000
END:DAYLIGHT
END:VTIMEZONE
BEGIN:VEVENT
UID:1866abd7-a0bd-4f7a-923c-b8edaa6a6379
DTSTAMP:20260425T105333Z
DESCRIPTION:
DTSTART;TZID=America/Chicago:20261129T104500
DTEND;TZID=America/Chicago:20261129T114500
LOCATION:
SUMMARY:Christian Education
END:VEVENT
END:VCALENDAR
