BEGIN:VCALENDAR
VERSION:2.0
PRODID:-//gcpc.org//NONSGML kigkonsult.se iCalcreator 2.30.10//
CALSCALE:GREGORIAN
METHOD:PUBLISH
UID:92bd39ad-b3fb-4006-bba8-9a557e7e04e9
X-WR-CALDESC:Submit bulletin articles by email to Patrick Bell in the churc
 h office by Noon each Wednesday.
X-WR-RELCALID:44c15d3889251b2ee954536ab53e0c10
X-WR-TIMEZONE:America/Chicago
BEGIN:VTIMEZONE
TZID:America/Chicago
BEGIN:STANDARD
TZNAME:CST
DTSTART:20261101T020000
TZOFFSETFROM:-0500
TZOFFSETTO:-0600
RDATE:20271107T020000
END:STANDARD
BEGIN:DAYLIGHT
TZNAME:CDT
DTSTART:20260308T020000
TZOFFSETFROM:-0600
TZOFFSETTO:-0500
RDATE:20270314T020000
RDATE:20280312T020000
END:DAYLIGHT
END:VTIMEZONE
BEGIN:VEVENT
UID:cd340a55-63ad-4f05-a2be-5af18421539f
DTSTAMP:20260425T152949Z
DESCRIPTION:Submit bulletin articles by email to Patrick Bell in the church
  office by Noon each Wednesday.
DTSTART;TZID=America/Chicago:20261202T120000
DTEND;TZID=America/Chicago:20261202T120100
LOCATION:
SUMMARY:Bulletin Deadline
END:VEVENT
END:VCALENDAR
