BEGIN:VCALENDAR
VERSION:2.0
PRODID:-//gcpc.org//NONSGML kigkonsult.se iCalcreator 2.30.10//
CALSCALE:GREGORIAN
METHOD:PUBLISH
UID:7e357bfd-1cd2-4500-a253-cbf384f2d0f8
X-WR-CALDESC:Communion is celebrated on the first Sunday of every month at 
 both worship services. The 8:50 service is by intinction\, and at the 11:0
 5\, the elements are passed.
X-WR-RELCALID:00599f623fa50543d6fbc908560a52b3
X-WR-TIMEZONE:America/Chicago
BEGIN:VTIMEZONE
TZID:America/Chicago
BEGIN:STANDARD
TZNAME:CST
DTSTART:20261101T020000
TZOFFSETFROM:-0500
TZOFFSETTO:-0600
RDATE:20271107T020000
END:STANDARD
BEGIN:DAYLIGHT
TZNAME:CDT
DTSTART:20260308T020000
TZOFFSETFROM:-0600
TZOFFSETTO:-0500
RDATE:20270314T020000
RDATE:20280312T020000
END:DAYLIGHT
END:VTIMEZONE
BEGIN:VEVENT
UID:db64e728-bd88-4330-8d9a-d75b23a3c64a
DTSTAMP:20260425T231224Z
DESCRIPTION:Communion is celebrated on the first Sunday of every month at b
 oth worship services. The 8:50 service is by intinction\, and at the 11:05
 \, the elements are passed.
DTSTART;TZID=America/Chicago:20261206T000000
DTEND;TZID=America/Chicago:20261206T235900
LOCATION:
SUMMARY:COMMUNION SUNDAY
END:VEVENT
END:VCALENDAR
