BEGIN:VCALENDAR
VERSION:2.0
PRODID:-//gcpc.org//NONSGML kigkonsult.se iCalcreator 2.30.10//
CALSCALE:GREGORIAN
METHOD:PUBLISH
UID:bd6dabf6-0c8b-4b70-8dca-dc13fc46d988
X-WR-CALDESC:
X-WR-RELCALID:ea134d94b70ceff1473d83fa66d76497
X-WR-TIMEZONE:America/Chicago
BEGIN:VTIMEZONE
TZID:America/Chicago
BEGIN:STANDARD
TZNAME:CST
DTSTART:20261101T020000
TZOFFSETFROM:-0500
TZOFFSETTO:-0600
RDATE:20271107T020000
END:STANDARD
BEGIN:DAYLIGHT
TZNAME:CDT
DTSTART:20260308T020000
TZOFFSETFROM:-0600
TZOFFSETTO:-0500
RDATE:20270314T020000
RDATE:20280312T020000
END:DAYLIGHT
END:VTIMEZONE
BEGIN:VEVENT
UID:f05a7a58-627e-4652-b56d-0c6b78f38225
DTSTAMP:20260425T231058Z
DESCRIPTION:
DTSTART;TZID=America/Chicago:20261206T104500
DTEND;TZID=America/Chicago:20261206T114500
LOCATION:
SUMMARY:Christian Education
END:VEVENT
END:VCALENDAR
