BEGIN:VCALENDAR
VERSION:2.0
PRODID:-//gcpc.org//NONSGML kigkonsult.se iCalcreator 2.30.10//
CALSCALE:GREGORIAN
METHOD:PUBLISH
UID:65d2f9b3-033c-4814-9b47-25209b614d64
X-WR-CALDESC:
X-WR-RELCALID:f818dd63c7c65f47afc0c2cbfa240e91
X-WR-TIMEZONE:America/Chicago
BEGIN:VTIMEZONE
TZID:America/Chicago
BEGIN:STANDARD
TZNAME:CST
DTSTART:20261101T020000
TZOFFSETFROM:-0500
TZOFFSETTO:-0600
RDATE:20271107T020000
END:STANDARD
BEGIN:DAYLIGHT
TZNAME:CDT
DTSTART:20260308T020000
TZOFFSETFROM:-0600
TZOFFSETTO:-0500
RDATE:20270314T020000
RDATE:20280312T020000
END:DAYLIGHT
END:VTIMEZONE
BEGIN:VEVENT
UID:ec1b4611-268d-4b11-9619-86738bb90a87
DTSTAMP:20260426T035953Z
DESCRIPTION:
DTSTART;TZID=America/Chicago:20261208T190000
DTEND;TZID=America/Chicago:20261208T203000
LOCATION:ONLINE
SUMMARY:Youth Team - ONLINE
END:VEVENT
END:VCALENDAR
