BEGIN:VCALENDAR
VERSION:2.0
PRODID:-//gcpc.org//NONSGML kigkonsult.se iCalcreator 2.30.10//
CALSCALE:GREGORIAN
METHOD:PUBLISH
UID:57c651e8-c468-4d06-bf94-5d0186e4e633
X-WR-CALDESC:
X-WR-RELCALID:d70983f64cdf46917c7e7507727c0ece
X-WR-TIMEZONE:America/Chicago
BEGIN:VTIMEZONE
TZID:America/Chicago
BEGIN:STANDARD
TZNAME:CST
DTSTART:20261101T020000
TZOFFSETFROM:-0500
TZOFFSETTO:-0600
RDATE:20271107T020000
END:STANDARD
BEGIN:DAYLIGHT
TZNAME:CDT
DTSTART:20260308T020000
TZOFFSETFROM:-0600
TZOFFSETTO:-0500
RDATE:20270314T020000
RDATE:20280312T020000
END:DAYLIGHT
END:VTIMEZONE
BEGIN:VEVENT
UID:c091e4d3-991b-4ce8-8bfa-cf5eb8b32b15
DTSTAMP:20260426T035753Z
DESCRIPTION:
DTSTART;TZID=America/Chicago:20261220T104500
DTEND;TZID=America/Chicago:20261220T114500
LOCATION:
SUMMARY:Christian Education
END:VEVENT
END:VCALENDAR
