BEGIN:VCALENDAR
VERSION:2.0
PRODID:-//gcpc.org//NONSGML kigkonsult.se iCalcreator 2.30.10//
CALSCALE:GREGORIAN
METHOD:PUBLISH
UID:d3ca4cdc-27d0-4f67-8cba-fd0a28b8f363
X-WR-CALDESC:
X-WR-RELCALID:f281b30f6280b86483518d547f1bf1b3
X-WR-TIMEZONE:America/Chicago
BEGIN:VTIMEZONE
TZID:America/Chicago
BEGIN:STANDARD
TZNAME:CST
DTSTART:20261101T020000
TZOFFSETFROM:-0500
TZOFFSETTO:-0600
RDATE:20271107T020000
END:STANDARD
BEGIN:DAYLIGHT
TZNAME:CDT
DTSTART:20260308T020000
TZOFFSETFROM:-0600
TZOFFSETTO:-0500
RDATE:20270314T020000
RDATE:20280312T020000
END:DAYLIGHT
END:VTIMEZONE
BEGIN:VEVENT
UID:a8f67a64-46c0-4b2e-ac81-af719ce4f9a3
DTSTAMP:20260425T183523Z
DESCRIPTION:
DTSTART;TZID=America/Chicago:20261224T183000
DTEND;TZID=America/Chicago:20261224T200000
LOCATION:ONLINE
SUMMARY:Connections & Care Meeting
END:VEVENT
END:VCALENDAR
