BEGIN:VCALENDAR
VERSION:2.0
PRODID:-//gcpc.org//NONSGML kigkonsult.se iCalcreator 2.30.10//
CALSCALE:GREGORIAN
METHOD:PUBLISH
UID:f42bbc40-265e-4f27-9a88-728894b2cad0
X-WR-CALDESC:
X-WR-RELCALID:60d1bc1bb03094b876e52efce5fbe15b
X-WR-TIMEZONE:America/Chicago
BEGIN:VTIMEZONE
TZID:America/Chicago
BEGIN:STANDARD
TZNAME:CST
DTSTART:20261101T020000
TZOFFSETFROM:-0500
TZOFFSETTO:-0600
RDATE:20271107T020000
END:STANDARD
BEGIN:DAYLIGHT
TZNAME:CDT
DTSTART:20260308T020000
TZOFFSETFROM:-0600
TZOFFSETTO:-0500
RDATE:20270314T020000
RDATE:20280312T020000
END:DAYLIGHT
END:VTIMEZONE
BEGIN:VEVENT
UID:b811b250-1ce7-4afd-a0bd-ab8286989219
DTSTAMP:20260425T200453Z
DESCRIPTION:
DTSTART;TZID=America/Chicago:20261227T104500
DTEND;TZID=America/Chicago:20261227T114500
LOCATION:
SUMMARY:Christian Education
END:VEVENT
END:VCALENDAR
