BEGIN:VCALENDAR
VERSION:2.0
PRODID:-//gcpc.org//NONSGML kigkonsult.se iCalcreator 2.30.10//
CALSCALE:GREGORIAN
METHOD:PUBLISH
UID:44218a07-d5a8-45c3-b6bd-c1e78eb515d4
X-WR-CALDESC:Submit bulletin articles by email to Patrick Bell in the churc
 h office by Noon each Wednesday.
X-WR-RELCALID:674a495a6d767a11f1e347fa8b47da22
X-WR-TIMEZONE:America/Chicago
BEGIN:VTIMEZONE
TZID:America/Chicago
BEGIN:STANDARD
TZNAME:CST
DTSTART:20261101T020000
TZOFFSETFROM:-0500
TZOFFSETTO:-0600
RDATE:20271107T020000
END:STANDARD
BEGIN:DAYLIGHT
TZNAME:CDT
DTSTART:20260308T020000
TZOFFSETFROM:-0600
TZOFFSETTO:-0500
RDATE:20270314T020000
RDATE:20280312T020000
END:DAYLIGHT
END:VTIMEZONE
BEGIN:VEVENT
UID:95a5cef6-1dac-4612-a483-02b15ba5febf
DTSTAMP:20260426T035822Z
DESCRIPTION:Submit bulletin articles by email to Patrick Bell in the church
  office by Noon each Wednesday.
DTSTART;TZID=America/Chicago:20261230T120000
DTEND;TZID=America/Chicago:20261230T120100
LOCATION:
SUMMARY:Bulletin Deadline
END:VEVENT
END:VCALENDAR
